Package: methyLImp2 Version: 1.3.1 Command: /home/biocbuild/bbs-3.21-bioc/R/bin/R CMD build --keep-empty-dirs --no-resave-data methyLImp2 StartedAt: 2025-02-09 18:03:05 -0500 (Sun, 09 Feb 2025) EndedAt: 2025-02-09 18:03:57 -0500 (Sun, 09 Feb 2025) EllapsedTime: 52.0 seconds RetCode: 0 Status: OK PackageFile: methyLImp2_1.3.1.tar.gz PackageFileSize: 1.261 MiB