Package: methyLImp2 Version: 1.3.1 Command: /home/biocbuild/bbs-3.21-bioc/R/bin/R CMD INSTALL methyLImp2 StartedAt: 2025-02-09 15:30:47 -0500 (Sun, 09 Feb 2025) EndedAt: 2025-02-09 15:31:07 -0500 (Sun, 09 Feb 2025) EllapsedTime: 20.9 seconds RetCode: 0 Status: OK