Package: methylKit Version: 1.33.2 Command: /Library/Frameworks/R.framework/Resources/bin/R CMD build --keep-empty-dirs --no-resave-data methylKit StartedAt: 2025-02-04 16:54:16 -0500 (Tue, 04 Feb 2025) EndedAt: 2025-02-04 16:54:56 -0500 (Tue, 04 Feb 2025) EllapsedTime: 39.4 seconds RetCode: 0 Status: OK PackageFile: methylKit_1.33.2.tar.gz PackageFileSize: 1.449 MiB