Package: methylKit Version: 1.33.2 Command: /Library/Frameworks/R.framework/Resources/bin/R CMD INSTALL methylKit StartedAt: 2025-02-04 15:08:51 -0500 (Tue, 04 Feb 2025) EndedAt: 2025-02-04 15:09:12 -0500 (Tue, 04 Feb 2025) EllapsedTime: 21.1 seconds RetCode: 0 Status: OK