Package: methylKit Version: 1.33.2 Command: /home/biocbuild/R/R/bin/R CMD check --install=check:methylKit.install-out.txt --library=/home/biocbuild/R/R/site-library --no-vignettes --timings methylKit_1.33.2.tar.gz StartedAt: 2025-01-28 12:20:29 -0000 (Tue, 28 Jan 2025) EndedAt: 2025-01-28 12:28:26 -0000 (Tue, 28 Jan 2025) EllapsedTime: 477.5 seconds RetCode: 0 Status: OK CheckDir: methylKit.Rcheck Warnings: 0