Package: methylKit Version: 1.33.2 Command: /home/biocbuild/R/R/bin/R CMD INSTALL methylKit StartedAt: 2025-01-29 19:49:41 -0000 (Wed, 29 Jan 2025) EndedAt: 2025-01-29 19:51:05 -0000 (Wed, 29 Jan 2025) EllapsedTime: 83.8 seconds RetCode: 0 Status: OK