Package: methylKit Version: 1.33.2 Command: /Library/Frameworks/R.framework/Resources/bin/R CMD INSTALL methylKit StartedAt: 2025-02-04 15:17:15 -0500 (Tue, 04 Feb 2025) EndedAt: 2025-02-04 15:18:29 -0500 (Tue, 04 Feb 2025) EllapsedTime: 74.6 seconds RetCode: 0 Status: OK