Package: methylKit Version: 1.33.2 Command: /home/biocbuild/bbs-3.21-bioc/R/bin/R CMD build --keep-empty-dirs --no-resave-data methylKit StartedAt: 2025-02-04 18:01:45 -0500 (Tue, 04 Feb 2025) EndedAt: 2025-02-04 18:03:12 -0500 (Tue, 04 Feb 2025) EllapsedTime: 87.1 seconds RetCode: 0 Status: OK PackageFile: methylKit_1.33.2.tar.gz PackageFileSize: 1.339 MiB