Package: methylKit Version: 1.33.2 Command: /home/biocbuild/bbs-3.21-bioc/R/bin/R CMD INSTALL methylKit StartedAt: 2025-02-04 15:24:50 -0500 (Tue, 04 Feb 2025) EndedAt: 2025-02-04 15:25:48 -0500 (Tue, 04 Feb 2025) EllapsedTime: 58.3 seconds RetCode: 0 Status: OK