Package: methylKit Version: 1.33.2 Command: chmod a+r methylKit -R && E:\biocbuild\bbs-3.21-bioc\R\bin\R.exe CMD build --keep-empty-dirs --no-resave-data methylKit StartedAt: 2025-02-04 19:52:14 -0500 (Tue, 04 Feb 2025) EndedAt: 2025-02-04 19:54:25 -0500 (Tue, 04 Feb 2025) EllapsedTime: 131.0 seconds RetCode: 0 Status: OK PackageFile: methylKit_1.33.2.tar.gz PackageFileSize: 1.134 MiB