Package: methylKit Version: 1.33.2 Command: E:\biocbuild\bbs-3.21-bioc\R\bin\R.exe CMD check --no-multiarch --install=check:methylKit.install-out.txt --library=E:\biocbuild\bbs-3.21-bioc\R\library --no-vignettes --timings methylKit_1.33.2.tar.gz StartedAt: 2025-02-05 03:16:18 -0500 (Wed, 05 Feb 2025) EndedAt: 2025-02-05 03:24:56 -0500 (Wed, 05 Feb 2025) EllapsedTime: 518.5 seconds RetCode: 0 Status: OK CheckDir: methylKit.Rcheck Warnings: 0