Package: methylKit Version: 1.33.2 Command: E:\biocbuild\bbs-3.21-bioc\R\bin\R.exe CMD INSTALL methylKit StartedAt: 2025-02-04 16:17:56 -0500 (Tue, 04 Feb 2025) EndedAt: 2025-02-04 16:19:46 -0500 (Tue, 04 Feb 2025) EllapsedTime: 110.5 seconds RetCode: 0 Status: OK