Package: methylMnM Version: 1.45.0 Command: /Library/Frameworks/R.framework/Resources/bin/R CMD INSTALL methylMnM StartedAt: 2025-02-10 15:02:54 -0500 (Mon, 10 Feb 2025) EndedAt: 2025-02-10 15:02:56 -0500 (Mon, 10 Feb 2025) EllapsedTime: 1.9 seconds RetCode: 0 Status: OK