Package: methylMnM Version: 1.45.0 Command: /home/biocbuild/bbs-3.21-bioc/R/bin/R CMD build --keep-empty-dirs --no-resave-data methylMnM StartedAt: 2025-02-09 18:04:07 -0500 (Sun, 09 Feb 2025) EndedAt: 2025-02-09 18:05:12 -0500 (Sun, 09 Feb 2025) EllapsedTime: 65.0 seconds RetCode: 0 Status: OK PackageFile: methylMnM_1.45.0.tar.gz PackageFileSize: 8.51 MiB