Package: methylMnM Version: 1.45.0 Command: /home/biocbuild/bbs-3.21-bioc/R/bin/R CMD check --install=check:methylMnM.install-out.txt --library=/home/biocbuild/bbs-3.21-bioc/R/site-library --timings methylMnM_1.45.0.tar.gz StartedAt: 2025-02-10 00:03:03 -0500 (Mon, 10 Feb 2025) EndedAt: 2025-02-10 00:04:19 -0500 (Mon, 10 Feb 2025) EllapsedTime: 75.1 seconds RetCode: 0 Status: OK CheckDir: methylMnM.Rcheck Warnings: 0