Package: methylMnM Version: 1.45.0 Command: chmod a+r methylMnM -R && E:\biocbuild\bbs-3.21-bioc\R\bin\R.exe CMD build --keep-empty-dirs --no-resave-data methylMnM StartedAt: 2025-02-10 20:02:27 -0500 (Mon, 10 Feb 2025) EndedAt: 2025-02-10 20:03:49 -0500 (Mon, 10 Feb 2025) EllapsedTime: 81.7 seconds RetCode: 0 Status: OK PackageFile: methylMnM_1.45.0.tar.gz PackageFileSize: 8.411 MiB