Package: methylMnM Version: 1.45.0 Command: E:\biocbuild\bbs-3.21-bioc\R\bin\R.exe CMD check --no-multiarch --install=check:methylMnM.install-out.txt --library=E:\biocbuild\bbs-3.21-bioc\R\library --no-vignettes --timings methylMnM_1.45.0.tar.gz StartedAt: 2025-02-11 03:03:16 -0500 (Tue, 11 Feb 2025) EndedAt: 2025-02-11 03:04:01 -0500 (Tue, 11 Feb 2025) EllapsedTime: 45.0 seconds RetCode: 0 Status: OK CheckDir: methylMnM.Rcheck Warnings: 0