Package: methylMnM Version: 1.45.0 Command: E:\biocbuild\bbs-3.21-bioc\R\bin\R.exe CMD INSTALL methylMnM StartedAt: 2025-02-10 15:38:32 -0500 (Mon, 10 Feb 2025) EndedAt: 2025-02-10 15:39:04 -0500 (Mon, 10 Feb 2025) EllapsedTime: 31.2 seconds RetCode: 0 Status: OK