Package: methylPipe Version: 1.41.0 Command: rm -rf methylPipe.buildbin-libdir && mkdir methylPipe.buildbin-libdir && /Users/biocbuild/BBS/utils/build-universal.sh methylPipe_1.41.0.tar.gz /Library/Frameworks/R.framework/Resources/bin/R methylPipe.buildbin-libdir StartedAt: 2025-02-13 00:45:07 -0500 (Thu, 13 Feb 2025) EndedAt: 2025-02-13 00:46:22 -0500 (Thu, 13 Feb 2025) EllapsedTime: 75.1 seconds RetCode: 0 Status: OK PackageFile: methylPipe_1.41.0.tgz PackageFileSize: 1.486 MiB