Package: methylPipe Version: 1.41.0 Command: /home/biocbuild/bbs-3.21-bioc/R/bin/R CMD build --keep-empty-dirs --no-resave-data methylPipe StartedAt: 2025-02-12 18:00:53 -0500 (Wed, 12 Feb 2025) EndedAt: 2025-02-12 18:03:26 -0500 (Wed, 12 Feb 2025) EllapsedTime: 153.1 seconds RetCode: 0 Status: OK PackageFile: methylPipe_1.41.0.tar.gz PackageFileSize: 793.9 KiB