Package: methylPipe Version: 1.41.0 Command: E:\biocbuild\bbs-3.21-bioc\R\bin\R.exe CMD INSTALL methylPipe StartedAt: 2025-02-12 16:37:38 -0500 (Wed, 12 Feb 2025) EndedAt: 2025-02-12 16:38:58 -0500 (Wed, 12 Feb 2025) EllapsedTime: 80.0 seconds RetCode: 0 Status: OK