Package: methylclock Version: 1.13.0 Command: rm -rf methylclock.buildbin-libdir && mkdir methylclock.buildbin-libdir && E:\biocbuild\bbs-3.21-bioc\R\bin\R.exe CMD INSTALL --build --library=methylclock.buildbin-libdir methylclock_1.13.0.tar.gz StartedAt: 2025-02-10 08:07:17 -0500 (Mon, 10 Feb 2025) EndedAt: 2025-02-10 08:09:10 -0500 (Mon, 10 Feb 2025) EllapsedTime: 112.7 seconds RetCode: 0 Status: OK PackageFile: methylclock_1.13.0.zip PackageFileSize: 1024 KiB