Package: methylclock Version: 1.13.0 Command: chmod a+r methylclock -R && E:\biocbuild\bbs-3.21-bioc\R\bin\R.exe CMD build --keep-empty-dirs --no-resave-data methylclock StartedAt: 2025-02-09 19:48:33 -0500 (Sun, 09 Feb 2025) EndedAt: 2025-02-09 19:59:16 -0500 (Sun, 09 Feb 2025) EllapsedTime: 642.6 seconds RetCode: 0 Status: OK PackageFile: methylclock_1.13.0.tar.gz PackageFileSize: 628.1 KiB