Package: methylclock Version: 1.13.0 Command: E:\biocbuild\bbs-3.21-bioc\R\bin\R.exe CMD INSTALL methylclock StartedAt: 2025-02-09 16:58:20 -0500 (Sun, 09 Feb 2025) EndedAt: 2025-02-09 16:59:59 -0500 (Sun, 09 Feb 2025) EllapsedTime: 99.5 seconds RetCode: 0 Status: OK