Package: methylscaper Version: 1.15.0 Command: /Library/Frameworks/R.framework/Resources/bin/R CMD check --install=check:methylscaper.install-out.txt --library=/Library/Frameworks/R.framework/Resources/library --no-vignettes --timings methylscaper_1.15.0.tar.gz StartedAt: 2025-02-04 20:05:47 -0500 (Tue, 04 Feb 2025) EndedAt: 2025-02-04 20:07:02 -0500 (Tue, 04 Feb 2025) EllapsedTime: 74.9 seconds RetCode: 0 Status: OK CheckDir: methylscaper.Rcheck Warnings: 0