Package: methylscaper Version: 1.15.0 Command: /Library/Frameworks/R.framework/Resources/bin/R CMD build --keep-empty-dirs --no-resave-data methylscaper StartedAt: 2025-02-09 17:24:37 -0500 (Sun, 09 Feb 2025) EndedAt: 2025-02-09 17:26:41 -0500 (Sun, 09 Feb 2025) EllapsedTime: 124.3 seconds RetCode: 0 Status: OK PackageFile: methylscaper_1.15.0.tar.gz PackageFileSize: 4.031 MiB