Package: methylscaper Version: 1.15.0 Command: /Library/Frameworks/R.framework/Resources/bin/R CMD INSTALL methylscaper StartedAt: 2025-02-09 15:39:10 -0500 (Sun, 09 Feb 2025) EndedAt: 2025-02-09 15:39:49 -0500 (Sun, 09 Feb 2025) EllapsedTime: 39.1 seconds RetCode: 0 Status: OK