Package: methylscaper Version: 1.15.0 Command: /home/biocbuild/bbs-3.21-bioc/R/bin/R CMD build --keep-empty-dirs --no-resave-data methylscaper StartedAt: 2025-02-04 18:02:42 -0500 (Tue, 04 Feb 2025) EndedAt: 2025-02-04 18:04:31 -0500 (Tue, 04 Feb 2025) EllapsedTime: 109.1 seconds RetCode: 0 Status: OK PackageFile: methylscaper_1.15.0.tar.gz PackageFileSize: 4.025 MiB