Package: methylscaper Version: 1.15.0 Command: /home/biocbuild/bbs-3.21-bioc/R/bin/R CMD check --install=check:methylscaper.install-out.txt --library=/home/biocbuild/bbs-3.21-bioc/R/site-library --timings methylscaper_1.15.0.tar.gz StartedAt: 2025-02-05 00:07:06 -0500 (Wed, 05 Feb 2025) EndedAt: 2025-02-05 00:15:20 -0500 (Wed, 05 Feb 2025) EllapsedTime: 494.4 seconds RetCode: 0 Status: OK CheckDir: methylscaper.Rcheck Warnings: 0