Package: methylscaper Version: 1.15.0 Command: /home/biocbuild/bbs-3.21-bioc/R/bin/R CMD INSTALL methylscaper StartedAt: 2025-02-04 15:48:12 -0500 (Tue, 04 Feb 2025) EndedAt: 2025-02-04 15:48:40 -0500 (Tue, 04 Feb 2025) EllapsedTime: 27.9 seconds RetCode: 0 Status: OK