Package: methylscaper Version: 1.15.0 Command: rm -rf methylscaper.buildbin-libdir && mkdir methylscaper.buildbin-libdir && E:\biocbuild\bbs-3.21-bioc\R\bin\R.exe CMD INSTALL --build --library=methylscaper.buildbin-libdir methylscaper_1.15.0.tar.gz StartedAt: 2025-02-05 08:19:32 -0500 (Wed, 05 Feb 2025) EndedAt: 2025-02-05 08:20:24 -0500 (Wed, 05 Feb 2025) EllapsedTime: 51.6 seconds RetCode: 0 Status: OK PackageFile: methylscaper_1.15.0.zip PackageFileSize: 2.973 MiB