Package: methylscaper Version: 1.15.0 Command: chmod a+r methylscaper -R && E:\biocbuild\bbs-3.21-bioc\R\bin\R.exe CMD build --keep-empty-dirs --no-resave-data methylscaper StartedAt: 2025-02-04 19:53:16 -0500 (Tue, 04 Feb 2025) EndedAt: 2025-02-04 19:54:59 -0500 (Tue, 04 Feb 2025) EllapsedTime: 103.0 seconds RetCode: 0 Status: OK PackageFile: methylscaper_1.15.0.tar.gz PackageFileSize: 3.803 MiB