Package: methylscaper Version: 1.15.0 Command: E:\biocbuild\bbs-3.21-bioc\R\bin\R.exe CMD check --no-multiarch --install=check:methylscaper.install-out.txt --library=E:\biocbuild\bbs-3.21-bioc\R\library --no-vignettes --timings methylscaper_1.15.0.tar.gz StartedAt: 2025-02-05 03:17:23 -0500 (Wed, 05 Feb 2025) EndedAt: 2025-02-05 03:21:08 -0500 (Wed, 05 Feb 2025) EllapsedTime: 224.2 seconds RetCode: 0 Status: OK CheckDir: methylscaper.Rcheck Warnings: 0