Package: mfa Version: 1.29.0 Command: rm -rf mfa.buildbin-libdir && mkdir mfa.buildbin-libdir && /Users/biocbuild/BBS/utils/build-universal.sh mfa_1.29.0.tar.gz /Library/Frameworks/R.framework/Resources/bin/R mfa.buildbin-libdir StartedAt: 2025-02-09 22:20:57 -0500 (Sun, 09 Feb 2025) EndedAt: 2025-02-09 22:21:04 -0500 (Sun, 09 Feb 2025) EllapsedTime: 7.1 seconds RetCode: 0 Status: OK PackageFile: mfa_1.29.0.tgz PackageFileSize: 663.5 KiB