Package: mfa Version: 1.29.0 Command: /Library/Frameworks/R.framework/Resources/bin/R CMD check --install=check:mfa.install-out.txt --library=/Library/Frameworks/R.framework/Resources/library --no-vignettes --timings mfa_1.29.0.tar.gz StartedAt: 2025-02-09 20:05:04 -0500 (Sun, 09 Feb 2025) EndedAt: 2025-02-09 20:05:34 -0500 (Sun, 09 Feb 2025) EllapsedTime: 29.3 seconds RetCode: 0 Status: OK CheckDir: mfa.Rcheck Warnings: 0