Package: mfa Version: 1.29.0 Command: /Library/Frameworks/R.framework/Resources/bin/R CMD INSTALL mfa StartedAt: 2025-02-09 15:32:29 -0500 (Sun, 09 Feb 2025) EndedAt: 2025-02-09 15:32:50 -0500 (Sun, 09 Feb 2025) EllapsedTime: 20.4 seconds RetCode: 0 Status: OK