Package: mfa Version: 1.29.0 Command: /home/biocbuild/bbs-3.21-bioc/R/bin/R CMD check --install=check:mfa.install-out.txt --library=/home/biocbuild/bbs-3.21-bioc/R/site-library --timings mfa_1.29.0.tar.gz StartedAt: 2025-02-10 00:04:32 -0500 (Mon, 10 Feb 2025) EndedAt: 2025-02-10 00:05:56 -0500 (Mon, 10 Feb 2025) EllapsedTime: 84.1 seconds RetCode: 0 Status: OK CheckDir: mfa.Rcheck Warnings: 0