Package: mfa Version: 1.29.0 Command: rm -rf mfa.buildbin-libdir && mkdir mfa.buildbin-libdir && E:\biocbuild\bbs-3.21-bioc\R\bin\R.exe CMD INSTALL --build --library=mfa.buildbin-libdir mfa_1.29.0.tar.gz StartedAt: 2025-02-10 08:08:12 -0500 (Mon, 10 Feb 2025) EndedAt: 2025-02-10 08:08:41 -0500 (Mon, 10 Feb 2025) EllapsedTime: 29.3 seconds RetCode: 0 Status: OK PackageFile: mfa_1.29.0.zip PackageFileSize: 765.7 KiB