Package: mfa Version: 1.29.0 Command: chmod a+r mfa -R && E:\biocbuild\bbs-3.21-bioc\R\bin\R.exe CMD build --keep-empty-dirs --no-resave-data mfa StartedAt: 2025-02-09 19:52:19 -0500 (Sun, 09 Feb 2025) EndedAt: 2025-02-09 19:54:03 -0500 (Sun, 09 Feb 2025) EllapsedTime: 104.1 seconds RetCode: 0 Status: OK PackageFile: mfa_1.29.0.tar.gz PackageFileSize: 338.9 KiB