Package: mfa Version: 1.29.0 Command: E:\biocbuild\bbs-3.21-bioc\R\bin\R.exe CMD check --no-multiarch --install=check:mfa.install-out.txt --library=E:\biocbuild\bbs-3.21-bioc\R\library --no-vignettes --timings mfa_1.29.0.tar.gz StartedAt: 2025-02-10 02:52:00 -0500 (Mon, 10 Feb 2025) EndedAt: 2025-02-10 02:53:38 -0500 (Mon, 10 Feb 2025) EllapsedTime: 97.7 seconds RetCode: 0 Status: OK CheckDir: mfa.Rcheck Warnings: 0