Package: mgsa Version: 1.55.0 Command: /Library/Frameworks/R.framework/Resources/bin/R CMD build --keep-empty-dirs --no-resave-data mgsa StartedAt: 2025-02-04 16:56:01 -0500 (Tue, 04 Feb 2025) EndedAt: 2025-02-04 16:56:11 -0500 (Tue, 04 Feb 2025) EllapsedTime: 10.1 seconds RetCode: 0 Status: OK PackageFile: mgsa_1.55.0.tar.gz PackageFileSize: 395.4 KiB