Package: mgsa Version: 1.55.0 Command: /home/biocbuild/R/R/bin/R CMD build --keep-empty-dirs --no-resave-data mgsa StartedAt: 2025-01-29 00:18:33 -0000 (Wed, 29 Jan 2025) EndedAt: 2025-01-29 00:18:48 -0000 (Wed, 29 Jan 2025) EllapsedTime: 15.0 seconds RetCode: 0 Status: OK PackageFile: mgsa_1.55.0.tar.gz PackageFileSize: 385.4 KiB