Package: mgsa Version: 1.55.0 Command: /home/biocbuild/R/R/bin/R CMD INSTALL mgsa StartedAt: 2025-01-29 19:32:18 -0000 (Wed, 29 Jan 2025) EndedAt: 2025-01-29 19:32:45 -0000 (Wed, 29 Jan 2025) EllapsedTime: 26.5 seconds RetCode: 0 Status: OK