Package: mgsa Version: 1.55.0 Command: rm -rf mgsa.buildbin-libdir && mkdir mgsa.buildbin-libdir && /Users/biocbuild/BBS/utils/build-universal.sh mgsa_1.55.0.tar.gz /Library/Frameworks/R.framework/Resources/bin/R mgsa.buildbin-libdir StartedAt: 2025-02-04 00:42:54 -0500 (Tue, 04 Feb 2025) EndedAt: 2025-02-04 00:43:08 -0500 (Tue, 04 Feb 2025) EllapsedTime: 13.8 seconds RetCode: 0 Status: OK PackageFile: mgsa_1.55.0.tgz PackageFileSize: 544.9 KiB