Package: mgsa Version: 1.55.0 Command: /Library/Frameworks/R.framework/Resources/bin/R CMD build --keep-empty-dirs --no-resave-data mgsa StartedAt: 2025-02-03 17:25:25 -0500 (Mon, 03 Feb 2025) EndedAt: 2025-02-03 17:25:48 -0500 (Mon, 03 Feb 2025) EllapsedTime: 22.9 seconds RetCode: 0 Status: OK PackageFile: mgsa_1.55.0.tar.gz PackageFileSize: 395.5 KiB