Package: mgsa Version: 1.55.0 Command: /Library/Frameworks/R.framework/Resources/bin/R CMD INSTALL mgsa StartedAt: 2025-02-03 15:10:11 -0500 (Mon, 03 Feb 2025) EndedAt: 2025-02-03 15:10:45 -0500 (Mon, 03 Feb 2025) EllapsedTime: 33.8 seconds RetCode: 0 Status: OK