Package: mgsa Version: 1.55.0 Command: /home/biocbuild/bbs-3.21-bioc/R/bin/R CMD build --keep-empty-dirs --no-resave-data mgsa StartedAt: 2025-02-04 18:04:17 -0500 (Tue, 04 Feb 2025) EndedAt: 2025-02-04 18:04:30 -0500 (Tue, 04 Feb 2025) EllapsedTime: 13.0 seconds RetCode: 0 Status: OK PackageFile: mgsa_1.55.0.tar.gz PackageFileSize: 395.3 KiB