Package: mgsa Version: 1.55.0 Command: /home/biocbuild/bbs-3.21-bioc/R/bin/R CMD check --install=check:mgsa.install-out.txt --library=/home/biocbuild/bbs-3.21-bioc/R/site-library --timings mgsa_1.55.0.tar.gz StartedAt: 2025-02-05 00:13:17 -0500 (Wed, 05 Feb 2025) EndedAt: 2025-02-05 00:17:41 -0500 (Wed, 05 Feb 2025) EllapsedTime: 264.2 seconds RetCode: 0 Status: WARNINGS CheckDir: mgsa.Rcheck Warnings: 1