Package: mgsa Version: 1.55.0 Command: /home/biocbuild/bbs-3.21-bioc/R/bin/R CMD INSTALL mgsa StartedAt: 2025-02-04 15:02:50 -0500 (Tue, 04 Feb 2025) EndedAt: 2025-02-04 15:03:07 -0500 (Tue, 04 Feb 2025) EllapsedTime: 17.0 seconds RetCode: 0 Status: OK