Package: mgsa Version: 1.55.0 Command: rm -rf mgsa.buildbin-libdir && mkdir mgsa.buildbin-libdir && E:\biocbuild\bbs-3.21-bioc\R\bin\R.exe CMD INSTALL --build --library=mgsa.buildbin-libdir mgsa_1.55.0.tar.gz StartedAt: 2025-02-05 08:20:15 -0500 (Wed, 05 Feb 2025) EndedAt: 2025-02-05 08:20:46 -0500 (Wed, 05 Feb 2025) EllapsedTime: 31.5 seconds RetCode: 0 Status: OK PackageFile: mgsa_1.55.0.zip PackageFileSize: 454.9 KiB